BEGIN:VCALENDAR
VERSION:2.0
PRODID:-//Lauri Lee&#039;s - ECPv6.14.2//NONSGML v1.0//EN
CALSCALE:GREGORIAN
METHOD:PUBLISH
X-ORIGINAL-URL:https://staging.laurilees.com
X-WR-CALDESC:Events for Lauri Lee&#039;s
REFRESH-INTERVAL;VALUE=DURATION:PT1H
X-Robots-Tag:noindex
X-PUBLISHED-TTL:PT1H
BEGIN:VTIMEZONE
TZID:America/Phoenix
BEGIN:STANDARD
TZOFFSETFROM:-0700
TZOFFSETTO:-0700
TZNAME:MST
DTSTART:20260101T000000
END:STANDARD
END:VTIMEZONE
BEGIN:VEVENT
DTSTART;TZID=America/Phoenix:20260425T100000
DTEND;TZID=America/Phoenix:20260425T130000
DTSTAMP:20260419T071348
CREATED:20250822T232159Z
LAST-MODIFIED:20250822T232159Z
UID:6263-1777111200-1777122000@staging.laurilees.com
SUMMARY:NEW Monthly Cave Creek Market at Foothills Food Bank
DESCRIPTION:✨ Cave Creek Market at Foothills Food Bank ✨ 4250 E Carefree Hwy\, Cave Creek\, AZ 85331️ Every 4th Saturday |  10 AM – 1 PMFree • Open to the Public • Family & Pet Friendly \nDiscover the charm of Cave Creek at this vibrant community marketplace! Held monthly at the Foothills Food Bank\, the Cave Creek Market is the perfect Saturday outing for families\, friends\, and neighbors looking to shop local and support small businesses. \n What You’ll Find:Unique\, one-of-a-kind handcrafted goods\, freshly baked breads and sweet treats\, local honey\, savory seasonings\, and gourmet dip mixes. Explore wellness essentials to keep you feeling your best\, shop for wild-caught seafood\, clothing\, jewelry\, and accessories\, and enjoy a variety of delicious food vendors—and so much more! \nBring the whole family—and don’t forget your leashed\, well-behaved pets! Stroll through the market\, enjoy the lively atmosphere\, and uncover treasures while supporting local makers and artisans. There’s truly something for everyone. \n Don’t miss this community favorite! \n For vendor inquiries or event details\, contact Market Coordinator Monique Lightner at mmevents@juno.com
URL:https://staging.laurilees.com/event/new-monthly-cave-creek-market-at-foothills-food-bank-6/
LOCATION:Foothills Food Bank\, 4250 E Carefree Highway\, Cave Creek\, AZ\, 85331\, United States
CATEGORIES:Community Market,Farmers Market
ATTACH;FMTTYPE=image/png:https://staging.laurilees.com/wp-content/uploads/2025/08/ChatGPT-Image-Aug-21-2025-10_16_55-PM.png
ORGANIZER;CN="M&M Events":MAILTO:mmevents@juno.com
END:VEVENT
END:VCALENDAR