BEGIN:VCALENDAR
VERSION:2.0
PRODID:-//Lauri Lee&#039;s - ECPv6.14.2//NONSGML v1.0//EN
CALSCALE:GREGORIAN
METHOD:PUBLISH
X-WR-CALNAME:Lauri Lee&#039;s
X-ORIGINAL-URL:https://staging.laurilees.com
X-WR-CALDESC:Events for Lauri Lee&#039;s
REFRESH-INTERVAL;VALUE=DURATION:PT1H
X-Robots-Tag:noindex
X-PUBLISHED-TTL:PT1H
BEGIN:VTIMEZONE
TZID:America/Phoenix
BEGIN:STANDARD
TZOFFSETFROM:-0700
TZOFFSETTO:-0700
TZNAME:MST
DTSTART:20250101T000000
END:STANDARD
END:VTIMEZONE
BEGIN:VEVENT
DTSTART;TZID=America/Phoenix:20251001T100000
DTEND;TZID=America/Phoenix:20251001T130000
DTSTAMP:20260421T153521
CREATED:20250819T002512Z
LAST-MODIFIED:20250819T002513Z
UID:6066-1759312800-1759323600@staging.laurilees.com
SUMMARY:Sun City Festival Farmers Market
DESCRIPTION:Join us every OTHER week on Wednesdays this season in the beautiful Sun City Festival community! Located in North Buckeye***NOW AT THE SAGUARO CENTER!!!!10am-1pmFresh produce\, wild caught fish\, raw honey\, fresh baked breads\, low sodium seasonings & party dip mixes and so much more!!!\ncheck the vendor line up on our Website (updated daily for the upcoming weeks line up) 
URL:https://staging.laurilees.com/event/sun-city-festival-farmers-market/
LOCATION:Sun City Festival Suguaro Recreation Center\, 26275 W Morrow Dr\, Buckeye\, AZ\, 85396\, United States
CATEGORIES:Community Market,Farmers Market
ORGANIZER;CN="Get Local Arizona Events":MAILTO:tiffanimarket3@gmail.cmo
END:VEVENT
BEGIN:VEVENT
DTSTART;TZID=America/Phoenix:20251003T100000
DTEND;TZID=America/Phoenix:20251003T140000
DTSTAMP:20260421T153521
CREATED:20250826T015102Z
LAST-MODIFIED:20250826T015102Z
UID:6333-1759485600-1759500000@staging.laurilees.com
SUMMARY:Sun City West Farmers Market
DESCRIPTION:Sun City West Friday Farmers Market & Artisan Crafts (Open to the public • Pet-friendly) \nGet ready for the Sun City West Friday Farmers Market & Artisan Crafts—a community favorite that combines a farmers market\, craft show\, and food festival all in one!  \n✨ Explore over 60 vendors offering fresh local produce\, artisan breads and pastries\, organic raw honey\, jams and syrups\, award-winning salsa and sauces\, aged olive oils\, cage-free eggs\, grass-fed beef\, Alaskan fish\, organic dog treats\, and a variety of health and wellness products. \n Treat yourself to the best of Phoenix tamales\, a keto-friendly bakery\, cold-pressed juices\, and a rotating lineup of food trucks serving up delicious bites in our lively food court. \n Shop unique handmade jewelry\, one-of-a-kind arts and crafts\, and discover the perfect weekend goodies or special gifts from local artisan vendors. \n Enjoy live music\, chef demos\, monthly car shows\, and so much more—all in one fun-filled market! \n Market dates: October 4\, 2024 – May 30\, 2025 (every Friday)⏰ Hours: 9 AM – 2 PM (perfect for holiday shopping\, too!) Location: Lord of Life Lutheran ChurchAddress: 13728 W. Meeker Blvd\, Sun City West\, AZ 85375 \n Admission is always free with free parking\, free samples\, free coupons\, and free entertainment—including live music once a month! \n A portion of every sale is given back to the community—your support makes a difference! \n Don’t miss out on the biggest Friday tradition in Sun City West. Come shop\, eat\, and celebrate with us every week!
URL:https://staging.laurilees.com/event/sun-city-west-farmers-market/
LOCATION:Lord of Life Lutheran Church\, 13724 W Meeker Blvd\, Sun City West\, AZ\, 85375\, United States
CATEGORIES:Community Market,Craft Market,Farmers Market
ORGANIZER;CN="Smith Local Markets":MAILTO:smithlocalmarkets@gmail.com
END:VEVENT
BEGIN:VEVENT
DTSTART;TZID=America/Phoenix:20251004T090000
DTEND;TZID=America/Phoenix:20251004T130000
DTSTAMP:20260421T153521
CREATED:20250819T012134Z
LAST-MODIFIED:20250819T012134Z
UID:6124-1759568400-1759582800@staging.laurilees.com
SUMMARY:Arrowhead Farmers Market
DESCRIPTION:Come shop local with us every week\, year round\, at the Arrowhead Farmers Market and shop for your fresh produce\, local meat\, raw milk\, local honey\, fresh sourdough\, food trucks\, kids activities\, local artisans and lots\, lots more!!!
URL:https://staging.laurilees.com/event/arrowhead-farmers-market/
LOCATION:Arrowhead Towne Center\, 7700 W Arrowhead Towne Center\, Glendale\, AZ\, 85308\, United States
CATEGORIES:Farmers Market
ORGANIZER;CN="Get Local Arizona Events":MAILTO:tiffanimarket3@gmail.cmo
END:VEVENT
BEGIN:VEVENT
DTSTART;TZID=America/Phoenix:20251004T090000
DTEND;TZID=America/Phoenix:20251004T130000
DTSTAMP:20260421T153521
CREATED:20250819T205505Z
LAST-MODIFIED:20250822T045629Z
UID:6176-1759568400-1759582800@staging.laurilees.com
SUMMARY:Monthly Market at The Grand
DESCRIPTION:The Grand Market – First Saturday of Each Month19753 N Remington Drive9:00 AM – 1:00 PM \nJoin us on the first Saturday of every month for The Grand Market! Shop a wide variety of local vendors and unique finds\, including: \n\n\nWild-caught seafood \n\n\nFresh local produce \n\n\nRaw local honey \n\n\nFreshly baked goods \n\n\nLow-sodium seasonings and party dip mixes \n\n\nOne-of-a-kind handcrafted items \n\n\nHealth and wellness products \n\n\nHome and garden essentials \n\n\nFood and more \n\n\nA perfect place to shop local\, support small businesses\, and enjoy a vibrant community market.
URL:https://staging.laurilees.com/event/monthly-market-at-the-grand/
LOCATION:The Grand Sonoran Plaza\, 19753 N. Remington Dr\, Surprise\, AZ\, 85374\, United States
CATEGORIES:Community Market,Farmers Market
ATTACH;FMTTYPE=image/png:https://staging.laurilees.com/wp-content/uploads/2025/08/Community-Market-Flyer-Design-1.png
ORGANIZER;CN="M&M Events":MAILTO:mmevents@juno.com
END:VEVENT
BEGIN:VEVENT
DTSTART;TZID=America/Phoenix:20251005T100000
DTEND;TZID=America/Phoenix:20251005T140000
DTSTAMP:20260421T153521
CREATED:20250823T001325Z
LAST-MODIFIED:20250823T001325Z
UID:6269-1759658400-1759672800@staging.laurilees.com
SUMMARY:McDowell Mtn Ranch Farmers Market
DESCRIPTION:Bring the family out for Sunday Fun Day—fun for all ages—at the McDowell Mountain Ranch Community Farmers Market & Arts & Craft Show in North Scottsdale! \nOpen to the public • Pet-friendly \nWe’re excited to kick off Season 4—our biggest season yet! This year’s market will feature 80+ vendors\, two local farmers with farm-to-table produce\, organic eggs\, artisan breads and pastries\, award-winning sauces and fresh salsa\, grass-fed meats and Alaskan Fish Co.\, infused raw honey\, jams and pickled produce\, organic olive oils\, homemade yogurt and hummus\, health and wellness products\, cold-pressed juices\, specialty rubs and spices\, organic dog treats\, the best of AZ tamales and smoked BBQ\, one-of-a-kind arts and crafts\, local businesses\, new kids’ activities\, mini horseback rides\, a full petting zoo\, live music\, and rotating food trucks! \n Grand Re-Opening: Sunday\, October 5\, 2025️ Market Dates: First Sunday of the Month\, October 5\, 2025 – May 4\, 2026 Market Hours: 10 AM – 2 PM Location: McDowell Mountain Ranch Community Center (Parking Lot)\, 10607 E. Paradise Ln\, Scottsdale\, AZ 85255 \nThis is a free event with free parking\, free samples\, free shopping bags\, free kids’ activities\, and free entertainment! \nThank you for your love and support over the years—our 2025–2026 season is going to be one to remember!
URL:https://staging.laurilees.com/event/mcdowell-mtn-ranch-farmers-market/
LOCATION:McDowell Mountain Ranch Community Center\, 10607 E Paradise Ln\, Scottsdale\, AZ\, 85255\, United States
CATEGORIES:Community Market,Craft Market,Farmers Market
ATTACH;FMTTYPE=image/jpeg:https://staging.laurilees.com/wp-content/uploads/2025/08/515437763_766635419252089_8219713160182007031_n.jpg
ORGANIZER;CN="Smith Local Markets":MAILTO:smithlocalmarkets@gmail.com
END:VEVENT
BEGIN:VEVENT
DTSTART;TZID=America/Phoenix:20251008T100000
DTEND;TZID=America/Phoenix:20251008T130000
DTSTAMP:20260421T153521
CREATED:20250819T005415Z
LAST-MODIFIED:20250819T005415Z
UID:6094-1759917600-1759928400@staging.laurilees.com
SUMMARY:Goodyear Estrella Farmers Market
DESCRIPTION:Join us at the Goodyear Estrella Weekday Farmers Market every other Wednesday 10a-1p Oct – Apr!\nGrab fresh produce\, wild caught seafood\, fresh breads\, local honey and lots more!\nOver 50 vendors each market! including local foods\, yummy concessions and a few talented artisans as well!
URL:https://staging.laurilees.com/event/goodyear-estrella-farmers-market/
LOCATION:Estrella Mountain Ranch Community\, 17665 W Elliot Rd\, Goodyear\, AZ\, 85338\, United States
CATEGORIES:Community Market,Farmers Market
ORGANIZER;CN="Get Local Arizona Events":MAILTO:tiffanimarket3@gmail.cmo
END:VEVENT
BEGIN:VEVENT
DTSTART;TZID=America/Phoenix:20251010T100000
DTEND;TZID=America/Phoenix:20251010T140000
DTSTAMP:20260421T153521
CREATED:20250826T015535Z
LAST-MODIFIED:20250826T015535Z
UID:6335-1760090400-1760104800@staging.laurilees.com
SUMMARY:Sun City West Farmers Market
DESCRIPTION:Sun City West Friday Farmers Market & Artisan Crafts (Open to the public • Pet-friendly) \nGet ready for the Sun City West Friday Farmers Market & Artisan Crafts—a community favorite that combines a farmers market\, craft show\, and food festival all in one!  \n✨ Explore over 60 vendors offering fresh local produce\, artisan breads and pastries\, organic raw honey\, jams and syrups\, award-winning salsa and sauces\, aged olive oils\, cage-free eggs\, grass-fed beef\, Alaskan fish\, organic dog treats\, and a variety of health and wellness products. \n Treat yourself to the best of Phoenix tamales\, a keto-friendly bakery\, cold-pressed juices\, and a rotating lineup of food trucks serving up delicious bites in our lively food court. \n Shop unique handmade jewelry\, one-of-a-kind arts and crafts\, and discover the perfect weekend goodies or special gifts from local artisan vendors. \n Enjoy live music\, chef demos\, monthly car shows\, and so much more—all in one fun-filled market! \n Market dates: October 4\, 2024 – May 30\, 2025 (every Friday)⏰ Hours: 9 AM – 2 PM (perfect for holiday shopping\, too!) Location: Lord of Life Lutheran ChurchAddress: 13728 W. Meeker Blvd\, Sun City West\, AZ 85375 \n Admission is always free with free parking\, free samples\, free coupons\, and free entertainment—including live music once a month! \n A portion of every sale is given back to the community—your support makes a difference! \n Don’t miss out on the biggest Friday tradition in Sun City West. Come shop\, eat\, and celebrate with us every week!
URL:https://staging.laurilees.com/event/sun-city-west-farmers-market-2/
LOCATION:Lord of Life Lutheran Church\, 13724 W Meeker Blvd\, Sun City West\, AZ\, 85375\, United States
CATEGORIES:Community Market,Craft Market,Farmers Market
ORGANIZER;CN="Smith Local Markets":MAILTO:smithlocalmarkets@gmail.com
END:VEVENT
BEGIN:VEVENT
DTSTART;TZID=America/Phoenix:20251011T090000
DTEND;TZID=America/Phoenix:20251011T130000
DTSTAMP:20260421T153521
CREATED:20250819T012248Z
LAST-MODIFIED:20250819T012248Z
UID:6126-1760173200-1760187600@staging.laurilees.com
SUMMARY:Arrowhead Farmers Market
DESCRIPTION:Come shop local with us every week\, year round\, at the Arrowhead Farmers Market and shop for your fresh produce\, local meat\, raw milk\, local honey\, fresh sourdough\, food trucks\, kids activities\, local artisans and lots\, lots more!!!
URL:https://staging.laurilees.com/event/arrowhead-farmers-market-2/
LOCATION:Arrowhead Towne Center\, 7700 W Arrowhead Towne Center\, Glendale\, AZ\, 85308\, United States
CATEGORIES:Farmers Market
ORGANIZER;CN="Get Local Arizona Events":MAILTO:tiffanimarket3@gmail.cmo
END:VEVENT
BEGIN:VEVENT
DTSTART;TZID=America/Phoenix:20251012T100000
DTEND;TZID=America/Phoenix:20251012T140000
DTSTAMP:20260421T153521
CREATED:20250825T230720Z
LAST-MODIFIED:20250826T002026Z
UID:6299-1760263200-1760277600@staging.laurilees.com
SUMMARY:Sonoran Foothills Farmers Market & Craft Show
DESCRIPTION:Sonoran Foothills Community Market (Carefree Hwy) (Open to the Public • Pet-Friendly • Family Fun!) \nGet ready for the ultimate community experience at the Sonoran Foothills Community Market! \n✨ Explore over 60 amazing vendors bringing you the very best: farm-fresh produce from local farmers\, organic eggs\, artisan breads and pastries\, award-winning sauces and fresh salsa\, grass-fed meats\, Alaskan seafood\, infused raw honey\, jams\, pickled produce\, organic olive oils\, homemade yogurt and hummus\, cold-pressed juices\, specialty rubs and spices\, organic dog treats\, and so much more! \nSavor Arizona’s best tamales\, smoky BBQ favorites\, and rotating food trucks that will keep you coming back for more. \nShop one-of-a-kind arts & crafts\, connect with local businesses\, and enjoy endless family fun with kids’ activities\, a petting zoo\, pet adoptions\, live music\, and free prize drawings! \nWhen: Every 2nd Sunday\, October 12\, 2025 – April 12\, 2026⏰ Time: 10 AM – 2 PMWhere: Sonoran Foothills Community HOA Parking LotAddress: 31910 N. North Foothills Drive\, Phoenix\, AZ 85085 \nBest of all\, this market is FREE to attend\, pet-friendly\, and full of fun for the whole family! Each month brings new vendors and surprises\, so there’s always something fresh to discover. \nDon’t miss out—come support your community and experience the ONLY market of its kind in Sonoran Foothills!
URL:https://staging.laurilees.com/event/sonoran-foothills-farmers-market-craft-show/
LOCATION:Sonoran Foothills Community Center\, 31910 N Foothills Dr\, Phoenix\, AZ\, 85085\, United States
CATEGORIES:Community Market,Craft Market,Farmers Market
ATTACH;FMTTYPE=image/jpeg:https://staging.laurilees.com/wp-content/uploads/2025/08/535553926_616452984869409_6664027549680614271_n.jpg
ORGANIZER;CN="Smith Local Markets":MAILTO:smithlocalmarkets@gmail.com
END:VEVENT
BEGIN:VEVENT
DTSTART;TZID=America/Phoenix:20251015T100000
DTEND;TZID=America/Phoenix:20251015T130000
DTSTAMP:20260421T153521
CREATED:20250819T002710Z
LAST-MODIFIED:20250819T002710Z
UID:6068-1760522400-1760533200@staging.laurilees.com
SUMMARY:Sun City Festival Farmers Market
DESCRIPTION:Join us every OTHER week on Wednesdays this season in the beautiful Sun City Festival community! Located in north buckeye***NOW AT THE SAGUARO CENTER!!!!10am-1pmFresh produce\, wild caught fish\, raw honey\, fresh baked breads and so much more!!!\ncheck the vendor line up on our Website (updated daily for the upcoming weeks line up)
URL:https://staging.laurilees.com/event/sun-city-festival-farmers-market-2/
LOCATION:Sun City Festival Suguaro Recreation Center\, 26275 W Morrow Dr\, Buckeye\, AZ\, 85396\, United States
CATEGORIES:Farmers Market
ORGANIZER;CN="Get Local Arizona Events":MAILTO:tiffanimarket3@gmail.cmo
END:VEVENT
BEGIN:VEVENT
DTSTART;TZID=America/Phoenix:20251017T100000
DTEND;TZID=America/Phoenix:20251017T100000
DTSTAMP:20260421T153521
CREATED:20250826T020259Z
LAST-MODIFIED:20250826T020259Z
UID:6337-1760695200-1760695200@staging.laurilees.com
SUMMARY:Sun City West Farmers Market
DESCRIPTION:Sun City West Friday Farmers Market & Artisan Crafts (Open to the public • Pet-friendly) \nGet ready for the Sun City West Friday Farmers Market & Artisan Crafts—a community favorite that combines a farmers market\, craft show\, and food festival all in one!  \n✨ Explore over 60 vendors offering fresh local produce\, artisan breads and pastries\, organic raw honey\, jams and syrups\, award-winning salsa and sauces\, aged olive oils\, cage-free eggs\, grass-fed beef\, Alaskan fish\, organic dog treats\, and a variety of health and wellness products. \n Treat yourself to the best of Phoenix tamales\, a keto-friendly bakery\, cold-pressed juices\, and a rotating lineup of food trucks serving up delicious bites in our lively food court. \n Shop unique handmade jewelry\, one-of-a-kind arts and crafts\, and discover the perfect weekend goodies or special gifts from local artisan vendors. \n Enjoy live music\, chef demos\, monthly car shows\, and so much more—all in one fun-filled market! \n Market dates: October 4\, 2024 – May 30\, 2025 (every Friday)⏰ Hours: 9 AM – 2 PM (perfect for holiday shopping\, too!) Location: Lord of Life Lutheran ChurchAddress: 13728 W. Meeker Blvd\, Sun City West\, AZ 85375 \n Admission is always free with free parking\, free samples\, free coupons\, and free entertainment—including live music once a month! \n A portion of every sale is given back to the community—your support makes a difference! \n Don’t miss out on the biggest Friday tradition in Sun City West. Come shop\, eat\, and celebrate with us every week!
URL:https://staging.laurilees.com/event/sun-city-west-farmers-market-3/
LOCATION:Lord of Life Lutheran Church\, 13724 W Meeker Blvd\, Sun City West\, AZ\, 85375\, United States
CATEGORIES:Community Market,Craft Market,Farmers Market
ORGANIZER;CN="Smith Local Markets":MAILTO:smithlocalmarkets@gmail.com
END:VEVENT
BEGIN:VEVENT
DTSTART;TZID=America/Phoenix:20251018T090000
DTEND;TZID=America/Phoenix:20251018T130000
DTSTAMP:20260421T153521
CREATED:20250819T012844Z
LAST-MODIFIED:20250819T012844Z
UID:6128-1760778000-1760792400@staging.laurilees.com
SUMMARY:Arrowhead Farmers Market
DESCRIPTION:Come shop local with us every week\, year round\, at the Arrowhead Farmers Market and shop for your fresh produce\, local meat\, raw milk\, local honey\, fresh sourdough\, food trucks\, kids activities\, local artisans and lots\, lots more!!!
URL:https://staging.laurilees.com/event/arrowhead-farmers-market-3/
LOCATION:Arrowhead Towne Center\, 7700 W Arrowhead Towne Center\, Glendale\, AZ\, 85308\, United States
CATEGORIES:Farmers Market
ORGANIZER;CN="Get Local Arizona Events":MAILTO:tiffanimarket3@gmail.cmo
END:VEVENT
BEGIN:VEVENT
DTSTART;TZID=America/Phoenix:20251018T100000
DTEND;TZID=America/Phoenix:20251018T130000
DTSTAMP:20260421T153521
CREATED:20250822T025250Z
LAST-MODIFIED:20250822T030915Z
UID:6222-1760781600-1760792400@staging.laurilees.com
SUMMARY:Monthly Trilogy Farmers Market
DESCRIPTION:✨ Trilogy @ Vistancia Monthly Marketplace ✨27980 N. Trilogy Blvd\, Peoria\, AZ 85383️ Every 3rd Saturday of the Month10 AM – 1 PMLocated in the parking lot next to the Kiva Club \nGet ready for a vibrant community experience at Trilogy @ Vistancia’s Monthly Marketplace! This free\, open-to-the-public event is the perfect Saturday outing for families\, friends\, and neighbors. Simply stop at the Trilogy Blvd. gatehouse when you arrive\, and they’ll direct you straight to the fun. \nWhat You’ll Discover: \n\n\nUnique\, one-of-a-kind handcrafted goods \n\n\nFreshly baked breads\, local honey\, and savory seasonings \n\n\nFlavorful dips and gourmet party favorites \n\n\nWellness essentials to keep you feeling your best \n\n\nWild-caught seafood\, clothing\, jewelry & accessories \n\n\nDelicious food vendors & so much more! \n\n\nBring the whole family—yes\, even your leashed\, well-behaved pups are welcome! Stroll through the market\, shop local\, and enjoy the lively atmosphere while supporting small businesses and artisans. \nDon’t miss this chance to explore\, connect\, and shop the best of local makers and growers. There’s truly something for everyone! \nWe can’t wait to see YOU there! \nFor vendor inquiries or event details\, contact Market Coordinator Monique Lightner at mmevents@juno.com
URL:https://staging.laurilees.com/event/monthly-trilogy-farmers-market/
LOCATION:Kiva Club at Vistancia\, 27980 N Trilogy Blvd\, Peoria\, AZ\, 85383\, United States
CATEGORIES:Community Market,Farmers Market
ATTACH;FMTTYPE=image/png:https://staging.laurilees.com/wp-content/uploads/2025/08/Trilogy-Marketplace-Event-Poster.png
ORGANIZER;CN="M&M Events":MAILTO:mmevents@juno.com
END:VEVENT
BEGIN:VEVENT
DTSTART;TZID=America/Phoenix:20251019T100000
DTEND;TZID=America/Phoenix:20251019T140000
DTSTAMP:20260421T153521
CREATED:20250826T001634Z
LAST-MODIFIED:20250826T001634Z
UID:6314-1760868000-1760882400@staging.laurilees.com
SUMMARY:Vistancia Farmers Market and Craft Show
DESCRIPTION:Vistancia Sunday Fun for All – Community Farmers Market & Arts & Craft Show (N. Peoria) (Open to the public • Pet-friendly • Family fun!) \nJoin us for Season 6 of the Vistancia Sunday Fun for All Community Farmers Market & Arts & Craft Show—an experience the whole family will love!  \n✨ This market features over 80 incredible vendors\, including two local farmers with fresh\, farm-to-table produce\, organic eggs\, artisan breads and pastries\, award-winning sauces and fresh salsa\, grass-fed meats\, infused raw honey\, jams and pickled produce\, organic olive oils\, homemade yogurt and hummus\, cold-pressed juices\, specialty rubs and spices\, and organic dog treats. \n Enjoy the best of Arizona tamales\, delicious smoked BBQ\, and a rotating lineup of mouthwatering food trucks. \n Shop one-of-a-kind arts and crafts\, support local businesses\, and explore a variety of unique finds. \n New this season: mini horseback rides for kids! Plus\, enjoy fun activities\, live music\, free prize drawings\, and family entertainment. \n Market dates: September 15\, 2024 – May 18\, 2025⏰ Hours: 10 AM – 2 PM Location: Mountain Vista Club Parking LotAddress: 29701 N. Sunrise Point\, Peoria\, AZ 85383 \n Best of all\, this is a FREE community event with free parking\, free shopping bags\, free samples\, free prize drawings\, free giveaways\, and free entertainment! \n Don’t miss out on one of the most exciting community markets in the Valley—come out\, have fun\, and support your local vendors!
URL:https://staging.laurilees.com/event/vistancia-farmers-market-and-craft-show/
LOCATION:Vistancia Mountain Vista Club\, 29701 N Sunrise Pt\, Peoria\, AZ\, 85383\, United States
CATEGORIES:Community Market,Craft Market,Farmers Market
ORGANIZER;CN="Smith Local Markets":MAILTO:smithlocalmarkets@gmail.com
END:VEVENT
BEGIN:VEVENT
DTSTART;TZID=America/Phoenix:20251022T100000
DTEND;TZID=America/Phoenix:20251022T130000
DTSTAMP:20260421T153521
CREATED:20250819T005527Z
LAST-MODIFIED:20250819T005538Z
UID:6096-1761127200-1761138000@staging.laurilees.com
SUMMARY:Goodyear Estrella Farmers Market
DESCRIPTION:Join us at the Goodyear Estrella Weekday Farmers Market every other Wednesday 10a-1p Oct – Apr!\nGrab fresh produce\, wild caught seafood\, fresh breads\, local honey and lots more!\nOver 50 vendors each market! including local foods\, yummy concessions and a few talented artisans as well!
URL:https://staging.laurilees.com/event/goodyear-estrella-farmers-market-2/
LOCATION:Estrella Mountain Ranch Community\, 17665 W Elliot Rd\, Goodyear\, AZ\, 85338\, United States
CATEGORIES:Community Market,Farmers Market
ORGANIZER;CN="Get Local Arizona Events":MAILTO:tiffanimarket3@gmail.cmo
END:VEVENT
BEGIN:VEVENT
DTSTART;TZID=America/Phoenix:20251024T100000
DTEND;TZID=America/Phoenix:20251024T140000
DTSTAMP:20260421T153521
CREATED:20250826T020657Z
LAST-MODIFIED:20250826T020657Z
UID:6339-1761300000-1761314400@staging.laurilees.com
SUMMARY:Sun City West Farmers Market
DESCRIPTION:Sun City West Friday Farmers Market & Artisan Crafts (Open to the public • Pet-friendly) \nGet ready for the Sun City West Friday Farmers Market & Artisan Crafts—a community favorite that combines a farmers market\, craft show\, and food festival all in one!  \n✨ Explore over 60 vendors offering fresh local produce\, artisan breads and pastries\, organic raw honey\, jams and syrups\, award-winning salsa and sauces\, aged olive oils\, cage-free eggs\, grass-fed beef\, Alaskan fish\, organic dog treats\, and a variety of health and wellness products. \n Treat yourself to the best of Phoenix tamales\, a keto-friendly bakery\, cold-pressed juices\, and a rotating lineup of food trucks serving up delicious bites in our lively food court. \n Shop unique handmade jewelry\, one-of-a-kind arts and crafts\, and discover the perfect weekend goodies or special gifts from local artisan vendors. \n Enjoy live music\, chef demos\, monthly car shows\, and so much more—all in one fun-filled market! \n Market dates: October 4\, 2024 – May 30\, 2025 (every Friday)⏰ Hours: 9 AM – 2 PM (perfect for holiday shopping\, too!) Location: Lord of Life Lutheran ChurchAddress: 13728 W. Meeker Blvd\, Sun City West\, AZ 85375 \n Admission is always free with free parking\, free samples\, free coupons\, and free entertainment—including live music once a month! \n A portion of every sale is given back to the community—your support makes a difference! \n Don’t miss out on the biggest Friday tradition in Sun City West. Come shop\, eat\, and celebrate with us every week!
URL:https://staging.laurilees.com/event/sun-city-west-farmers-market-4/
LOCATION:Lord of Life Lutheran Church\, 13724 W Meeker Blvd\, Sun City West\, AZ\, 85375\, United States
CATEGORIES:Community Market,Craft Market,Farmers Market
ORGANIZER;CN="Smith Local Markets":MAILTO:smithlocalmarkets@gmail.com
END:VEVENT
BEGIN:VEVENT
DTSTART;TZID=America/Phoenix:20251025T090000
DTEND;TZID=America/Phoenix:20251025T130000
DTSTAMP:20260421T153521
CREATED:20250819T012957Z
LAST-MODIFIED:20250819T012957Z
UID:6130-1761382800-1761397200@staging.laurilees.com
SUMMARY:Arrowhead Farmers Market
DESCRIPTION:Come shop local with us every week\, year round\, at the Arrowhead Farmers Market and shop for your fresh produce\, local meat\, raw milk\, local honey\, fresh sourdough\, food trucks\, kids activities\, local artisans and lots\, lots more!!!
URL:https://staging.laurilees.com/event/arrowhead-farmers-market-4/
LOCATION:Arrowhead Towne Center\, 7700 W Arrowhead Towne Center\, Glendale\, AZ\, 85308\, United States
CATEGORIES:Farmers Market
ORGANIZER;CN="Get Local Arizona Events":MAILTO:tiffanimarket3@gmail.cmo
END:VEVENT
BEGIN:VEVENT
DTSTART;TZID=America/Phoenix:20251029T100000
DTEND;TZID=America/Phoenix:20251029T130000
DTSTAMP:20260421T153521
CREATED:20250819T003239Z
LAST-MODIFIED:20250819T003240Z
UID:6070-1761732000-1761742800@staging.laurilees.com
SUMMARY:Sun City Festival Farmers Market
DESCRIPTION:Join us every OTHER week on Wednesdays this season in the beautiful Sun City Festival community! Located in north buckeye***NOW AT THE SAGUARO CENTER!!!!10am-1pmFresh produce\, wild caught fish\, raw honey\, fresh baked breads and so much more!!!\ncheck the vendor line up on our Website (updated daily for the upcoming weeks line up)
URL:https://staging.laurilees.com/event/sun-city-festival-farmers-market-3/
LOCATION:Sun City Festival Suguaro Recreation Center\, 26275 W Morrow Dr\, Buckeye\, AZ\, 85396\, United States
CATEGORIES:Community Market,Farmers Market
ORGANIZER;CN="Get Local Arizona Events":MAILTO:tiffanimarket3@gmail.cmo
END:VEVENT
BEGIN:VEVENT
DTSTART;TZID=America/Phoenix:20251031T100000
DTEND;TZID=America/Phoenix:20251031T140000
DTSTAMP:20260421T153521
CREATED:20250826T020959Z
LAST-MODIFIED:20250826T020959Z
UID:6341-1761904800-1761919200@staging.laurilees.com
SUMMARY:Sun City West Farmers Market
DESCRIPTION:Sun City West Friday Farmers Market & Artisan Crafts (Open to the public • Pet-friendly) \nGet ready for the Sun City West Friday Farmers Market & Artisan Crafts—a community favorite that combines a farmers market\, craft show\, and food festival all in one!  \n✨ Explore over 60 vendors offering fresh local produce\, artisan breads and pastries\, organic raw honey\, jams and syrups\, award-winning salsa and sauces\, aged olive oils\, cage-free eggs\, grass-fed beef\, Alaskan fish\, organic dog treats\, and a variety of health and wellness products. \n Treat yourself to the best of Phoenix tamales\, a keto-friendly bakery\, cold-pressed juices\, and a rotating lineup of food trucks serving up delicious bites in our lively food court. \n Shop unique handmade jewelry\, one-of-a-kind arts and crafts\, and discover the perfect weekend goodies or special gifts from local artisan vendors. \n Enjoy live music\, chef demos\, monthly car shows\, and so much more—all in one fun-filled market! \n Market dates: October 4\, 2024 – May 30\, 2025 (every Friday)⏰ Hours: 9 AM – 2 PM (perfect for holiday shopping\, too!) Location: Lord of Life Lutheran ChurchAddress: 13728 W. Meeker Blvd\, Sun City West\, AZ 85375 \n Admission is always free with free parking\, free samples\, free coupons\, and free entertainment—including live music once a month! \n A portion of every sale is given back to the community—your support makes a difference! \n Don’t miss out on the biggest Friday tradition in Sun City West. Come shop\, eat\, and celebrate with us every week!
URL:https://staging.laurilees.com/event/sun-city-west-farmers-market-5/
LOCATION:Lord of Life Lutheran Church\, 13724 W Meeker Blvd\, Sun City West\, AZ\, 85375\, United States
CATEGORIES:Community Market,Craft Market,Farmers Market
ORGANIZER;CN="Smith Local Markets":MAILTO:smithlocalmarkets@gmail.com
END:VEVENT
END:VCALENDAR