BEGIN:VCALENDAR
VERSION:2.0
PRODID:-//Lauri Lee&#039;s - ECPv6.14.2//NONSGML v1.0//EN
CALSCALE:GREGORIAN
METHOD:PUBLISH
X-WR-CALNAME:Lauri Lee&#039;s
X-ORIGINAL-URL:https://staging.laurilees.com
X-WR-CALDESC:Events for Lauri Lee&#039;s
REFRESH-INTERVAL;VALUE=DURATION:PT1H
X-Robots-Tag:noindex
X-PUBLISHED-TTL:PT1H
BEGIN:VTIMEZONE
TZID:America/Phoenix
BEGIN:STANDARD
TZOFFSETFROM:-0700
TZOFFSETTO:-0700
TZNAME:MST
DTSTART:20250101T000000
END:STANDARD
END:VTIMEZONE
BEGIN:VEVENT
DTSTART;TZID=America/Phoenix:20251012T090000
DTEND;TZID=America/Phoenix:20251012T160000
DTSTAMP:20260420T010929
CREATED:20250820T014015Z
LAST-MODIFIED:20250820T014015Z
UID:6200-1760259600-1760284800@staging.laurilees.com
SUMMARY:Briar Patch Marketplace at Greenway High School
DESCRIPTION:Join us for a spectacular outdoor shopping experience at Greenway High School! Browse through amazing local vendors offering unique treasures perfect for the upcoming holiday season.\nWHEN: Saturday\, October 11 & Sunday\, October 12TIME: 9 AM – 4 PM both daysWHERE: Greenway High School3930 W Greenway Rd\, Phoenix\, AZ 85053COST: FREE entrance & FREE parkingPETS: Furry friends welcome!\nGet a head start on your holiday shopping in a fun\, festive atmosphere! With talented local artisans and businesses\, you’ll find something special for everyone on your list.\nWhat to discover:• Stunning one-of-a-kind jewelry• Stylish clothing for all occasions• Beautiful home decor pieces• Delicious food vendors (both sweet and savory treats)• Spooky Halloween decor and gifts• Unique gifts you won’t find in stores• And so much more!\nThis is your LAST CHANCE to shop for Halloween! Our vendors will be showcasing their spookiest and most festive Halloween items alongside other seasonal treasures. Get those final Halloween decorations\, costumes\, and treats before the holiday arrives!\nBring the whole family—including your four-legged friends—for a perfect fall day of shopping\, eating\, and supporting local vendors.\nDon’t wait until the holiday rush! Mark your calendar\, tag your shopping buddies\, and SHARE this event with friends who love finding unique treasures. Come spend the day with us and discover your new favorite local vendors!\n#BriarpatchMarketplace #ShopLocal #GreenwayCraft #HalloweenShopping #PetFriendly
URL:https://staging.laurilees.com/event/briar-patch-marketplace-at-greenway-high-school-2/
LOCATION:Greenway High School\, 3930 W Greenway Rd\, Phoenix\, AZ\, 85053\, United States
CATEGORIES:Community Market,Craft Market,Holiday Market,Special Event
ATTACH;FMTTYPE=image/jpeg:https://staging.laurilees.com/wp-content/uploads/2025/08/BP-Greenway-10-11-12.jpg
ORGANIZER;CN="Briar Patch Marketplace":MAILTO:Jeanniecueto@yahoo.com
END:VEVENT
END:VCALENDAR