BEGIN:VCALENDAR
VERSION:2.0
PRODID:-//Lauri Lee&#039;s - ECPv6.14.2//NONSGML v1.0//EN
CALSCALE:GREGORIAN
METHOD:PUBLISH
X-WR-CALNAME:Lauri Lee&#039;s
X-ORIGINAL-URL:https://staging.laurilees.com
X-WR-CALDESC:Events for Lauri Lee&#039;s
REFRESH-INTERVAL;VALUE=DURATION:PT1H
X-Robots-Tag:noindex
X-PUBLISHED-TTL:PT1H
BEGIN:VTIMEZONE
TZID:America/Phoenix
BEGIN:STANDARD
TZOFFSETFROM:-0700
TZOFFSETTO:-0700
TZNAME:MST
DTSTART:20250101T000000
END:STANDARD
END:VTIMEZONE
BEGIN:VEVENT
DTSTART;TZID=America/Phoenix:20251003T100000
DTEND;TZID=America/Phoenix:20251003T140000
DTSTAMP:20260419T142100
CREATED:20250826T015102Z
LAST-MODIFIED:20250826T015102Z
UID:6333-1759485600-1759500000@staging.laurilees.com
SUMMARY:Sun City West Farmers Market
DESCRIPTION:Sun City West Friday Farmers Market & Artisan Crafts (Open to the public • Pet-friendly) \nGet ready for the Sun City West Friday Farmers Market & Artisan Crafts—a community favorite that combines a farmers market\, craft show\, and food festival all in one!  \n✨ Explore over 60 vendors offering fresh local produce\, artisan breads and pastries\, organic raw honey\, jams and syrups\, award-winning salsa and sauces\, aged olive oils\, cage-free eggs\, grass-fed beef\, Alaskan fish\, organic dog treats\, and a variety of health and wellness products. \n Treat yourself to the best of Phoenix tamales\, a keto-friendly bakery\, cold-pressed juices\, and a rotating lineup of food trucks serving up delicious bites in our lively food court. \n Shop unique handmade jewelry\, one-of-a-kind arts and crafts\, and discover the perfect weekend goodies or special gifts from local artisan vendors. \n Enjoy live music\, chef demos\, monthly car shows\, and so much more—all in one fun-filled market! \n Market dates: October 4\, 2024 – May 30\, 2025 (every Friday)⏰ Hours: 9 AM – 2 PM (perfect for holiday shopping\, too!) Location: Lord of Life Lutheran ChurchAddress: 13728 W. Meeker Blvd\, Sun City West\, AZ 85375 \n Admission is always free with free parking\, free samples\, free coupons\, and free entertainment—including live music once a month! \n A portion of every sale is given back to the community—your support makes a difference! \n Don’t miss out on the biggest Friday tradition in Sun City West. Come shop\, eat\, and celebrate with us every week!
URL:https://staging.laurilees.com/event/sun-city-west-farmers-market/
LOCATION:Lord of Life Lutheran Church\, 13724 W Meeker Blvd\, Sun City West\, AZ\, 85375\, United States
CATEGORIES:Community Market,Craft Market,Farmers Market
ORGANIZER;CN="Smith Local Markets":MAILTO:smithlocalmarkets@gmail.com
END:VEVENT
BEGIN:VEVENT
DTSTART;TZID=America/Phoenix:20251001T100000
DTEND;TZID=America/Phoenix:20251001T130000
DTSTAMP:20260419T142100
CREATED:20250819T002512Z
LAST-MODIFIED:20250819T002513Z
UID:6066-1759312800-1759323600@staging.laurilees.com
SUMMARY:Sun City Festival Farmers Market
DESCRIPTION:Join us every OTHER week on Wednesdays this season in the beautiful Sun City Festival community! Located in North Buckeye***NOW AT THE SAGUARO CENTER!!!!10am-1pmFresh produce\, wild caught fish\, raw honey\, fresh baked breads\, low sodium seasonings & party dip mixes and so much more!!!\ncheck the vendor line up on our Website (updated daily for the upcoming weeks line up) 
URL:https://staging.laurilees.com/event/sun-city-festival-farmers-market/
LOCATION:Sun City Festival Suguaro Recreation Center\, 26275 W Morrow Dr\, Buckeye\, AZ\, 85396\, United States
CATEGORIES:Community Market,Farmers Market
ORGANIZER;CN="Get Local Arizona Events":MAILTO:tiffanimarket3@gmail.cmo
END:VEVENT
BEGIN:VEVENT
DTSTART;TZID=America/Phoenix:20250921T090000
DTEND;TZID=America/Phoenix:20250921T130000
DTSTAMP:20260419T142100
CREATED:20250609T050221Z
LAST-MODIFIED:20250609T050221Z
UID:5783-1758445200-1758459600@staging.laurilees.com
SUMMARY:North Peoria / Vistancia INDOOR Summer Market
DESCRIPTION:VISTANCIA COMMUNITY INDOOR SUMMER MARKET\n**OPEN TO THE PUBLIC & PET FRIENDLY** \n90+VENDORS\, FARMERS MARKET\, DELICIOUS FOODS\, BREADS & PASTRIES\, ARTS & CRAFTS\, KIDS ACTIVITIES\, FOOD TRUCKS/CONCESSIONS & LIVE MUSIC! \nSUMMER MARKET DATES= JUNE 15TH THRU SEPT 21ST\, 2025\n(3RD SUNDAY OF EACH MONTH)\nINDOOR SUMMER HOURS= 9AM – 1PM\nMARKET LOCATIONS= MOUNTAIN VISTA CLUB(N. PEORIA)\n29701 N. SUNRISE POINT PEORIA\, AZ 85383\n-FREE PARKING – FREE ENTRY – FREE FOOD SAMPLES- \nWE THANK YOU FOR ALL YOUR LOVE AND SUPPORT OVER THE YEARS!
URL:https://staging.laurilees.com/event/north-peoria-vistancia-indoor-summer-market-4/
LOCATION:Vistancia Mountain Vista Club\, 29701 N Sunrise Pt\, Peoria\, AZ\, 85383\, United States
CATEGORIES:Community Market,Farmers Market
ATTACH;FMTTYPE=image/jpeg:https://staging.laurilees.com/wp-content/uploads/2025/06/IMG_1685.jpeg
ORGANIZER;CN="Smith Local Markets":MAILTO:smithlocalmarkets@gmail.com
END:VEVENT
BEGIN:VEVENT
DTSTART;TZID=America/Phoenix:20250907T090000
DTEND;TZID=America/Phoenix:20250907T160000
DTSTAMP:20260419T142100
CREATED:20250820T013141Z
LAST-MODIFIED:20250820T013141Z
UID:6195-1757235600-1757260800@staging.laurilees.com
SUMMARY:Briar Patch Marketplace at Ironwood High School
DESCRIPTION:Briar Patch Marketplace at Ironwood High SchoolSeptember 6th & 7th9 AM – 4 PM Both DaysIronwood High School6051 W Sweetwater AveGlendale\, AZ 85304 \nBeat the heat and join us for a fantastic weekend of shopping and fun!Escape the summer sun and discover amazing finds at our climate-controlled indoor marketplace featuring 100+ vendors under one roof! Whether you’re hunting for unique treasures\, getting a head start on holiday decorating\, or just looking for a fun way to spend the weekend\, we’ve got you covered. \nWhat You’ll Find: \n\n\nHoliday decor to get you ready for the season \n\n\nBeautiful home decor pieces \n\n\nUnique knickknacks and gifts \n\n\nSweet treats to enjoy while you browse \n\n\nAnd SO much more! \n\n\nThe Best Part? \n\n\nStay cool in the AC while you shop \n\n\nFREE admission \n\n\nFREE parking \n\n\nAll indoors – no weather worries! \n\n\nCome spend the day discovering one-of-a-kind items\, supporting local vendors\, and enjoying a relaxing shopping experience with friends and family. Perfect for beating the heat while finding your next favorite treasure! \nSee you there!
URL:https://staging.laurilees.com/event/briar-patch-marketplace-at-ironwood-high-school-2/
LOCATION:Ironwood High School\, 6051 W Sweetwater Ave\, Glendale\, AZ\, 85304\, United States
CATEGORIES:Community Market,Craft Market,Holiday Market,Indoor Market,Special Event
ATTACH;FMTTYPE=image/jpeg:https://staging.laurilees.com/wp-content/uploads/2025/08/BP-Ironwood-fall-2025.jpg
ORGANIZER;CN="Briar Patch Marketplace":MAILTO:Jeanniecueto@yahoo.com
END:VEVENT
BEGIN:VEVENT
DTSTART;TZID=America/Phoenix:20250906T090000
DTEND;TZID=America/Phoenix:20250906T160000
DTSTAMP:20260419T142100
CREATED:20250820T012633Z
LAST-MODIFIED:20250820T012633Z
UID:6191-1757149200-1757174400@staging.laurilees.com
SUMMARY:Briar Patch Marketplace at Ironwood High School
DESCRIPTION:Briar Patch Marketplace at Ironwood High SchoolSeptember 6th & 7th9 AM – 4 PM Both DaysIronwood High School6051 W Sweetwater AveGlendale\, AZ 85304 \nBeat the heat and join us for a fantastic weekend of shopping and fun!Escape the summer sun and discover amazing finds at our climate-controlled indoor marketplace featuring 100+ vendors under one roof! Whether you’re hunting for unique treasures\, getting a head start on holiday decorating\, or just looking for a fun way to spend the weekend\, we’ve got you covered. \nWhat You’ll Find: \n\n\nHoliday decor to get you ready for the season \n\n\nBeautiful home decor pieces \n\n\nUnique knickknacks and gifts \n\n\nSweet treats to enjoy while you browse \n\n\nAnd SO much more! \n\n\nThe Best Part? \n\n\nStay cool in the AC while you shop \n\n\nFREE admission \n\n\nFREE parking \n\n\nAll indoors – no weather worries! \n\n\nCome spend the day discovering one-of-a-kind items\, supporting local vendors\, and enjoying a relaxing shopping experience with friends and family. Perfect for beating the heat while finding your next favorite treasure! \nSee you there!
URL:https://staging.laurilees.com/event/briar-patch-marketplace-at-ironwood-high-school/
LOCATION:Ironwood High School\, 6051 W Sweetwater Ave\, Glendale\, AZ\, 85304\, United States
CATEGORIES:Craft Market,Indoor Market,Special Event
ATTACH;FMTTYPE=image/jpeg:https://staging.laurilees.com/wp-content/uploads/2025/08/BP-Ironwood-fall-2025.jpg
ORGANIZER;CN="Briar Patch Marketplace":MAILTO:Jeanniecueto@yahoo.com
END:VEVENT
BEGIN:VEVENT
DTSTART;TZID=America/Phoenix:20250906T090000
DTEND;TZID=America/Phoenix:20250906T130000
DTSTAMP:20260419T142100
CREATED:20250414T203854Z
LAST-MODIFIED:20250414T203854Z
UID:5717-1757149200-1757163600@staging.laurilees.com
SUMMARY:Market at The Grand - INDOORS
DESCRIPTION:Join us in the beautiful INDOOR Grand Ballroom for some summer indoor shopping!  Lots of great vendors/small business will be there!\n\nHere are just a few of the things you can find at this market:\n\nWild caught seafood\, low sodium seasonings & party dip mixes\, baked goods\, health & wellness products\, clothing & accessories\,           hand crafted one of a kind items\, bath & body products\, jewelry\, home improvement companies and so much more!\n\nJoin us for a fun indoor shopping experience!
URL:https://staging.laurilees.com/event/market-at-the-grand-indoors-4/
LOCATION:The Grand Sonoran Plaza\, 19753 N. Remington Dr\, Surprise\, AZ\, 85374\, United States
CATEGORIES:Community Market,Home & Health,Indoor Market
ATTACH;FMTTYPE=image/jpeg:https://staging.laurilees.com/wp-content/uploads/2025/04/IMG_7345-scaled.jpg
ORGANIZER;CN="M&M Events":MAILTO:mmevents@juno.com
END:VEVENT
END:VCALENDAR