BEGIN:VCALENDAR
VERSION:2.0
PRODID:-//Lauri Lee&#039;s - ECPv6.14.2//NONSGML v1.0//EN
CALSCALE:GREGORIAN
METHOD:PUBLISH
X-WR-CALNAME:Lauri Lee&#039;s
X-ORIGINAL-URL:https://staging.laurilees.com
X-WR-CALDESC:Events for Lauri Lee&#039;s
REFRESH-INTERVAL;VALUE=DURATION:PT1H
X-Robots-Tag:noindex
X-PUBLISHED-TTL:PT1H
BEGIN:VTIMEZONE
TZID:America/Phoenix
BEGIN:STANDARD
TZOFFSETFROM:-0700
TZOFFSETTO:-0700
TZNAME:MST
DTSTART:20250101T000000
END:STANDARD
END:VTIMEZONE
BEGIN:VEVENT
DTSTART;TZID=America/Phoenix:20250906T090000
DTEND;TZID=America/Phoenix:20250906T130000
DTSTAMP:20260419T113502
CREATED:20250414T203854Z
LAST-MODIFIED:20250414T203854Z
UID:5717-1757149200-1757163600@staging.laurilees.com
SUMMARY:Market at The Grand - INDOORS
DESCRIPTION:Join us in the beautiful INDOOR Grand Ballroom for some summer indoor shopping!  Lots of great vendors/small business will be there!\n\nHere are just a few of the things you can find at this market:\n\nWild caught seafood\, low sodium seasonings & party dip mixes\, baked goods\, health & wellness products\, clothing & accessories\,           hand crafted one of a kind items\, bath & body products\, jewelry\, home improvement companies and so much more!\n\nJoin us for a fun indoor shopping experience!
URL:https://staging.laurilees.com/event/market-at-the-grand-indoors-4/
LOCATION:The Grand Sonoran Plaza\, 19753 N. Remington Dr\, Surprise\, AZ\, 85374\, United States
CATEGORIES:Community Market,Home & Health,Indoor Market
ATTACH;FMTTYPE=image/jpeg:https://staging.laurilees.com/wp-content/uploads/2025/04/IMG_7345-scaled.jpg
ORGANIZER;CN="M&M Events":MAILTO:mmevents@juno.com
END:VEVENT
END:VCALENDAR